BEGIN:VCALENDAR
VERSION:2.0
PRODID:SchoolNow
CALSCALE:GREGORIAN
BEGIN:VEVENT
UID:c260e510-0cac-11eb-972b-12a8ee9bbe69
DTSTAMP:20210316T130342Z
SUMMARY:CDD Board Meeting - Jul. 2021
LOCATION:Holiday Inn Express\, 2709 SE Highway 70\, Arcadia\, FL
URL;VALUE=URI:https://www.oakstoneeastcdd.org/calendar/2448414/cdd-board-me
 eting-jul-2021
DTSTART:20210722T143000Z
DTEND:20210722T153000Z
END:VEVENT
END:VCALENDAR
