BEGIN:VCALENDAR
VERSION:2.0
PRODID:SchoolNow
CALSCALE:GREGORIAN
BEGIN:VEVENT
UID:05304936-433c-11ed-8ac2-0a90fbdff0ab
DTSTAMP:20230117T160041Z
SUMMARY:CDD Board Meeting - Jan. 2023 (Cancelled)
LOCATION:Holiday Inn Express\, 2709 SE Highway 70\, Arcadia\, Florida 34266
URL;VALUE=URI:https://www.oakstoneeastcdd.org/calendar/3476670/cdd-board-me
 eting-jan-2023
DTSTART:20230124T170000Z
DTEND:20230124T180000Z
END:VEVENT
END:VCALENDAR
