BEGIN:VCALENDAR
VERSION:2.0
PRODID:SchoolNow
CALSCALE:GREGORIAN
BEGIN:VEVENT
UID:13bb7d76-51a1-11ee-8739-0a58a9feac02
DTSTAMP:20240416T183226Z
SUMMARY:CDD Board Meeting - Apr. 2024 (Cancelled)
LOCATION:Holiday Inn Express\, 2709 SE Highway 70\, Arcadia\, Florida 34266
URL;VALUE=URI:https://www.oakstoneeastcdd.org/calendar/4723500/cdd-board-me
 eting-apr-2024
DTSTART:20240423T160000Z
DTEND:20240423T170000Z
END:VEVENT
END:VCALENDAR
