BEGIN:VCALENDAR
VERSION:2.0
PRODID:SchoolNow
CALSCALE:GREGORIAN
BEGIN:VEVENT
UID:b6013558-7ced-11ef-9ff7-02c20f9cf683
DTSTAMP:20250422T133935Z
SUMMARY:CDD Board Meeting - Apr. 2025 (Cancelled)
LOCATION:Holiday Inn Express\, 2709 SE Highway 70\, Arcadia\, Florida 34266
URL;VALUE=URI:https://www.oakstoneeastcdd.org/calendar/6704777/cdd-board-me
 eting-apr-2025
DTSTART:20250422T160000Z
DTEND:20250422T170000Z
ATTACH;FILENAME=2025-04-21 Oak Stone East Agenda.pdf;FMTTYPE=application/pd
 f:https://campussuite-storage.s3.amazonaws.com/prod/1558797/bacb0cec-a7de-
 11e9-a301-0a9ba80c3a40/2941062/776195bc-1a3c-11f0-8fc3-0e2eb04aae55/file/2
 025-04-21 Oak Stone East Agenda.pdf
END:VEVENT
END:VCALENDAR
