BEGIN:VCALENDAR
VERSION:2.0
PRODID:SchoolNow
CALSCALE:GREGORIAN
BEGIN:VEVENT
UID:bfbbc324-7ced-11ef-b7f6-0e33d0ba4709
DTSTAMP:20250521T020058Z
SUMMARY:CDD Board Meeting - May 2025
LOCATION:Holiday Inn Express\, 2709 SE Highway 70\, Arcadia\, Florida 34266
URL;VALUE=URI:https://www.oakstoneeastcdd.org/calendar/6704778/cdd-board-me
 eting-may-2025
DTSTART:20250527T160000Z
DTEND:20250527T170000Z
ATTACH;FILENAME=2025-05-27 Oak Stone East Agenda.pdf;FMTTYPE=application/pd
 f:https://campussuite-storage.s3.amazonaws.com/prod/1558797/bacb0cec-a7de-
 11e9-a301-0a9ba80c3a40/2956818/3729af72-35e7-11f0-bf9a-0e929cb90aa5/file/2
 025-05-27 Oak Stone East Agenda.pdf
END:VEVENT
END:VCALENDAR
