BEGIN:VCALENDAR
VERSION:2.0
PRODID:SchoolNow
CALSCALE:GREGORIAN
BEGIN:VEVENT
UID:c8549bc8-7ced-11ef-93ec-0a58a9feac02
DTSTAMP:20250618T161230Z
SUMMARY:CDD Board Meeting - Jun. 2025 (Canceled)
LOCATION:Holiday Inn Express\, 2709 SE Highway 70\, Arcadia\, Florida 34266
URL;VALUE=URI:https://www.oakstoneeastcdd.org/calendar/6704779/cdd-board-me
 eting-jun-2025
DTSTART:20250624T160000Z
DTEND:20250624T170000Z
END:VEVENT
END:VCALENDAR
