BEGIN:VCALENDAR
VERSION:2.0
PRODID:SchoolNow
CALSCALE:GREGORIAN
BEGIN:VEVENT
UID:d10101bc-7ced-11ef-b221-0e14255c1ab9
DTSTAMP:20250721T194954Z
SUMMARY:CDD Board Meeting - Jul. 2025
LOCATION:Holiday Inn Express\, 2709 SE Highway 70\, Arcadia\, Florida 34266
URL;VALUE=URI:https://www.oakstoneeastcdd.org/calendar/6704780/cdd-board-me
 eting-jul-2025
DTSTART:20250722T160000Z
DTEND:20250722T170000Z
ATTACH;FILENAME=2025-07-22 Oak Stone East Agenda v2.pdf;FMTTYPE=application
 /pdf:https://campussuite-storage.s3.amazonaws.com/prod/1558797/bacb0cec-a7
 de-11e9-a301-0a9ba80c3a40/2983834/d9564abc-666b-11f0-8480-0affca91faff/fil
 e/2025-07-22 Oak Stone East Agenda v2.pdf
END:VEVENT
END:VCALENDAR
