BEGIN:VCALENDAR
VERSION:2.0
PRODID:SchoolNow
CALSCALE:GREGORIAN
BEGIN:VEVENT
UID:d958dbf0-7ced-11ef-83d9-0a58a9feac02
DTSTAMP:20250819T222640Z
SUMMARY:CDD Board Meeting - Aug. 2025
LOCATION:DeSoto County Public Library\, 125 N. Hillsborough Avenue Arcadia\
 , FL 34266
URL;VALUE=URI:https://www.oakstoneeastcdd.org/calendar/6704781/cdd-board-me
 eting-aug-2025
DTSTART:20250826T160000Z
DTEND:20250826T170000Z
ATTACH;FILENAME=2025-08-26 Oak Stone East Agenda.pdf;FMTTYPE=application/pd
 f:https://campussuite-storage.s3.amazonaws.com/prod/1558797/bacb0cec-a7de-
 11e9-a301-0a9ba80c3a40/2995584/8cfa595a-7d4b-11f0-aff5-02b6ac64bda5/file/2
 025-08-26 Oak Stone East Agenda.pdf
END:VEVENT
END:VCALENDAR
