BEGIN:VCALENDAR
VERSION:2.0
PRODID:SchoolNow
CALSCALE:GREGORIAN
BEGIN:VEVENT
UID:e2c0b62c-7ced-11ef-82c0-0a58a9feac02
DTSTAMP:20250919T203032Z
SUMMARY:CDD Board Meeting - Sept. 2025 (Canceled)
LOCATION:DeSoto County Library\, 125 N. Hillsborough Avenue Arcadia\, FL 34
 266
URL;VALUE=URI:https://www.oakstoneeastcdd.org/calendar/6704782/cdd-board-me
 eting-sept-2025
DTSTART:20250923T160000Z
DTEND:20250923T170000Z
ATTACH;FILENAME=2025-09-23 Oak Stone East Agenda.pdf;FMTTYPE=application/pd
 f:https://campussuite-storage.s3.amazonaws.com/prod/1558797/bacb0cec-a7de-
 11e9-a301-0a9ba80c3a40/3007730/c59b93e2-932f-11f0-8cbc-02dcb7a45abd/file/2
 025-09-23 Oak Stone East Agenda.pdf
END:VEVENT
END:VCALENDAR
